BEGIN:VCALENDAR
VERSION:2.0
PRODID:-//eventon.com NONSGML v1.0//EN
CALSCALE:GREGORIAN
METHOD:PUBLISH
BEGIN:VEVENT
UID:69e9e93f865ba
DTSTAMP:20260423T094119Z
DTSTART:20250314T093000Z
DTEND:20250315T130000Z
LOCATION:
SUMMARY:SALON DE L'ALTERNANCE
DESCRIPTION:Vous envisagez une alternance mais êtes indécis sur la format
 ion à choisir ou le métier à exercer ? Vous recherchez votre futur emplo
 yeur ?Participez au Salon de l'alternance 2025 à Bordeaux\,  un événemen
 t dédié non seulement aux étudiants à la recherche de formations en alt
 ernance et de contrats\,  mais aussi[..]\nhttps://lamissionlocale.com/event
 s/salon-de-lalternance/
URL:https://lamissionlocale.com/events/salon-de-lalternance/
END:VEVENT
END:VCALENDAR